BEGIN:VCALENDAR
VERSION:2.0
PRODID:-//Blue Mountain - ECPv6.15.17.1//NONSGML v1.0//EN
CALSCALE:GREGORIAN
METHOD:PUBLISH
X-ORIGINAL-URL:https://www.bluemtnretreat.org
X-WR-CALDESC:Events for Blue Mountain
REFRESH-INTERVAL;VALUE=DURATION:PT1H
X-Robots-Tag:noindex
X-PUBLISHED-TTL:PT1H
BEGIN:VTIMEZONE
TZID:America/New_York
BEGIN:DAYLIGHT
TZOFFSETFROM:-0500
TZOFFSETTO:-0400
TZNAME:EDT
DTSTART:20250309T070000
END:DAYLIGHT
BEGIN:STANDARD
TZOFFSETFROM:-0400
TZOFFSETTO:-0500
TZNAME:EST
DTSTART:20251102T060000
END:STANDARD
BEGIN:DAYLIGHT
TZOFFSETFROM:-0500
TZOFFSETTO:-0400
TZNAME:EDT
DTSTART:20260308T070000
END:DAYLIGHT
BEGIN:STANDARD
TZOFFSETFROM:-0400
TZOFFSETTO:-0500
TZNAME:EST
DTSTART:20261101T060000
END:STANDARD
BEGIN:DAYLIGHT
TZOFFSETFROM:-0500
TZOFFSETTO:-0400
TZNAME:EDT
DTSTART:20270314T070000
END:DAYLIGHT
BEGIN:STANDARD
TZOFFSETFROM:-0400
TZOFFSETTO:-0500
TZNAME:EST
DTSTART:20271107T060000
END:STANDARD
END:VTIMEZONE
BEGIN:VEVENT
DTSTART;VALUE=DATE:20260306
DTEND;VALUE=DATE:20260309
DTSTAMP:20260423T060538
CREATED:20260209T191301Z
LAST-MODIFIED:20260212T215527Z
UID:905-1772755200-1773014399@www.bluemtnretreat.org
SUMMARY:Bliss Yoga Escape
DESCRIPTION:Retreat Highlights\n• Meditation for clarity and calm\n• Daily yoga practices for all levels\n• Yoga Nidra—deep relaxation sessions\n• Delicious catered meals (all included)\n• Time to rest\, connect\, and explore nature \nPricing\nPrivate Room – $695 \nShared Room –  $625 \nReserve Your Spot: Call Sissy at 410-707- 27777
URL:https://www.bluemtnretreat.org/event/bliss-yoga-escape/
LOCATION:Maryland
END:VEVENT
BEGIN:VEVENT
DTSTART;TZID=America/New_York:20260522T170000
DTEND;TZID=America/New_York:20260525T130000
DTSTAMP:20260423T060538
CREATED:20260422T215548Z
LAST-MODIFIED:20260422T220521Z
UID:919-1779469200-1779714000@www.bluemtnretreat.org
SUMMARY:Strength & Softness Memorial Day Weekend Retreat
DESCRIPTION:Join Rachel Morrison on Memorial Day Weekend for a 3 night yoga retreat to rebalance strength & softness in our lives! During this weekend in the woods\, we will create a sacred space to nourish and embrace our whole selves through yoga\, meditation\, journaling\, time in nature\, and community building. \nThe retreat\, located at The Blue Mountain Retreat Center: 1032 Hoffmaster Rd\, Knoxville\, MD 21758 will begin Friday at 5pm and conclude by 1pm on Monday. \nThe Retreat will include the following:\n• 4 Full Asana Practices\n• Meditation\n• Additional nourishing/restorative practices/sessions TBA\n• Free time for hiking or exploring other nearby attractions\n• Saturday night bonfire\n• Accommodation (shared rooms\, roommate requests welcome)\n• Homemade organic & vegan meals made by our amazing host\, Beth\n• Massages Available with Beth at $90 per hour \nREGISTER NOW @ https://momence.com/l/e4hejyBG \nBLUE MOUNTAIN RETREAT CENTER\, KNOXVILLE\, MD • MAY 22ND @ 5PM – MAY 25TH\, @ 1PM\, 2026
URL:https://www.bluemtnretreat.org/event/strength-softness-memorial-day-weekend-retreat/
LOCATION:Blue Mountain Retreat Center\, 1032 Hoffmaster Rd\, Knoxville\, Maryland\, 21758\, United States
END:VEVENT
END:VCALENDAR